BEGIN:VCALENDAR
VERSION:2.0
PRODID:-//Mind in Bexley - ECPv6.15.20//NONSGML v1.0//EN
CALSCALE:GREGORIAN
METHOD:PUBLISH
X-WR-CALNAME:Mind in Bexley
X-ORIGINAL-URL:https://mindinbexley.org.uk
X-WR-CALDESC:Events for Mind in Bexley
REFRESH-INTERVAL;VALUE=DURATION:PT1H
X-Robots-Tag:noindex
X-PUBLISHED-TTL:PT1H
BEGIN:VTIMEZONE
TZID:Europe/London
BEGIN:DAYLIGHT
TZOFFSETFROM:+0000
TZOFFSETTO:+0100
TZNAME:BST
DTSTART:20250330T010000
END:DAYLIGHT
BEGIN:STANDARD
TZOFFSETFROM:+0100
TZOFFSETTO:+0000
TZNAME:GMT
DTSTART:20251026T010000
END:STANDARD
BEGIN:DAYLIGHT
TZOFFSETFROM:+0000
TZOFFSETTO:+0100
TZNAME:BST
DTSTART:20260329T010000
END:DAYLIGHT
BEGIN:STANDARD
TZOFFSETFROM:+0100
TZOFFSETTO:+0000
TZNAME:GMT
DTSTART:20261025T010000
END:STANDARD
BEGIN:DAYLIGHT
TZOFFSETFROM:+0000
TZOFFSETTO:+0100
TZNAME:BST
DTSTART:20270328T010000
END:DAYLIGHT
BEGIN:STANDARD
TZOFFSETFROM:+0100
TZOFFSETTO:+0000
TZNAME:GMT
DTSTART:20271031T010000
END:STANDARD
END:VTIMEZONE
BEGIN:VEVENT
DTSTART;TZID=Europe/London:20260128T110000
DTEND;TZID=Europe/London:20260128T133000
DTSTAMP:20260421T163436
CREATED:20260123T093829Z
LAST-MODIFIED:20260123T094644Z
UID:28336-1769598000-1769607000@mindinbexley.org.uk
SUMMARY:Improving Mental Wellbeing in Bexley
DESCRIPTION:This is a joint event hosted by Mind in Bexley and Active Horizons. The launch event is an opportunity for people from global majority communities to come together\, find out what support is available locally and connect with others in a welcoming and relaxed space. There’ll be free food\, fun activities and information about upcoming opportunities for people of all ages. \n\n\n\nFor more information or to register for the event\, you can call: 07538 635705
URL:https://mindinbexley.org.uk/event/improving-mental-wellbeing-in-bexley/
LOCATION:Active Horizons Community Hub\, Dellview Road\, Erith DA8 3FG\, Dellview Road\, Erith\, DA8 3FG
END:VEVENT
END:VCALENDAR