BEGIN:VCALENDAR
VERSION:2.0
PRODID:-//Mind in Bexley - ECPv6.15.20//NONSGML v1.0//EN
CALSCALE:GREGORIAN
METHOD:PUBLISH
X-WR-CALNAME:Mind in Bexley
X-ORIGINAL-URL:https://mindinbexley.org.uk
X-WR-CALDESC:Events for Mind in Bexley
REFRESH-INTERVAL;VALUE=DURATION:PT1H
X-Robots-Tag:noindex
X-PUBLISHED-TTL:PT1H
BEGIN:VTIMEZONE
TZID:Europe/London
BEGIN:DAYLIGHT
TZOFFSETFROM:+0000
TZOFFSETTO:+0100
TZNAME:BST
DTSTART:20250330T010000
END:DAYLIGHT
BEGIN:STANDARD
TZOFFSETFROM:+0100
TZOFFSETTO:+0000
TZNAME:GMT
DTSTART:20251026T010000
END:STANDARD
BEGIN:DAYLIGHT
TZOFFSETFROM:+0000
TZOFFSETTO:+0100
TZNAME:BST
DTSTART:20260329T010000
END:DAYLIGHT
BEGIN:STANDARD
TZOFFSETFROM:+0100
TZOFFSETTO:+0000
TZNAME:GMT
DTSTART:20261025T010000
END:STANDARD
BEGIN:DAYLIGHT
TZOFFSETFROM:+0000
TZOFFSETTO:+0100
TZNAME:BST
DTSTART:20270328T010000
END:DAYLIGHT
BEGIN:STANDARD
TZOFFSETFROM:+0100
TZOFFSETTO:+0000
TZNAME:GMT
DTSTART:20271031T010000
END:STANDARD
END:VTIMEZONE
BEGIN:VEVENT
DTSTART;TZID=Europe/London:20260616T093000
DTEND;TZID=Europe/London:20260616T123000
DTSTAMP:20260424T161707
CREATED:20260424T104246Z
LAST-MODIFIED:20260424T104248Z
UID:28813-1781602200-1781613000@mindinbexley.org.uk
SUMMARY:Bexley Voice - SEND Summer Marketplace 2026
DESCRIPTION:Bexley Voice are hosting the 5th annual Summer Market Place for SEND event. It will include inclusive and exclusive clubs\, events and sports for children and young people with additional needs. The goal is to show case what is on offer in Bexley for both the children and young people\, but also the parents and carers. \n\n\n\nWe will have a stand at the event with information on our services\, and a representative to answer any questions. Come along and join us!
URL:https://mindinbexley.org.uk/event/send-marketplace-event/
LOCATION:Danson Youth Centre\, Danson Youth Centre\, Brampton Rd\, Bexleyheath\, DA7 4EZ
ORGANIZER;CN="Bexley Voice":MAILTO:admin@bexleyvoice.org.uk
END:VEVENT
END:VCALENDAR