BEGIN:VCALENDAR
VERSION:2.0
PRODID:-//Mind in Bexley - ECPv6.15.20//NONSGML v1.0//EN
CALSCALE:GREGORIAN
METHOD:PUBLISH
X-ORIGINAL-URL:https://mindinbexley.org.uk
X-WR-CALDESC:Events for Mind in Bexley
REFRESH-INTERVAL;VALUE=DURATION:PT1H
X-Robots-Tag:noindex
X-PUBLISHED-TTL:PT1H
BEGIN:VTIMEZONE
TZID:Europe/London
BEGIN:DAYLIGHT
TZOFFSETFROM:+0000
TZOFFSETTO:+0100
TZNAME:BST
DTSTART:20240331T010000
END:DAYLIGHT
BEGIN:STANDARD
TZOFFSETFROM:+0100
TZOFFSETTO:+0000
TZNAME:GMT
DTSTART:20241027T010000
END:STANDARD
BEGIN:DAYLIGHT
TZOFFSETFROM:+0000
TZOFFSETTO:+0100
TZNAME:BST
DTSTART:20250330T010000
END:DAYLIGHT
BEGIN:STANDARD
TZOFFSETFROM:+0100
TZOFFSETTO:+0000
TZNAME:GMT
DTSTART:20251026T010000
END:STANDARD
BEGIN:DAYLIGHT
TZOFFSETFROM:+0000
TZOFFSETTO:+0100
TZNAME:BST
DTSTART:20260329T010000
END:DAYLIGHT
BEGIN:STANDARD
TZOFFSETFROM:+0100
TZOFFSETTO:+0000
TZNAME:GMT
DTSTART:20261025T010000
END:STANDARD
END:VTIMEZONE
BEGIN:VEVENT
DTSTART;TZID=Europe/London:20251231T140000
DTEND;TZID=Europe/London:20251231T160000
DTSTAMP:20260421T182139
CREATED:20251002T120653Z
LAST-MODIFIED:20251013T093037Z
UID:27489-1767189600-1767196800@mindinbexley.org.uk
SUMMARY:New Year’s Eve Music Fun
DESCRIPTION:Join us this New Year’s Eve where we will be playing your favourite tunes to celebrate the new year coming in. \n\n\n\nWhen it gets just before 4 we will do a count down and wish each other a happy new year.
URL:https://mindinbexley.org.uk/event/new-years-eve-music-fun/
LOCATION:Virtual
ATTACH;FMTTYPE=image/png:https://mindinbexley.org.uk/wp-content/uploads/2024/11/4-3-MiB-Christmas-NY-Groups.png
ORGANIZER;CN="Bexley Recovery Service":MAILTO:recovery@mindinbexley.org.uk
END:VEVENT
END:VCALENDAR